BEGIN:VCALENDAR
VERSION:2.0
PRODID:-//Integrity Church Burlington, NC | Real People, Real Church - ECPv6.15.20//NONSGML v1.0//EN
CALSCALE:GREGORIAN
METHOD:PUBLISH
X-WR-CALNAME:Integrity Church Burlington, NC | Real People, Real Church
X-ORIGINAL-URL:https://integritync.org
X-WR-CALDESC:Events for Integrity Church Burlington, NC | Real People, Real Church
REFRESH-INTERVAL;VALUE=DURATION:PT1H
X-Robots-Tag:noindex
X-PUBLISHED-TTL:PT1H
BEGIN:VTIMEZONE
TZID:America/New_York
BEGIN:DAYLIGHT
TZOFFSETFROM:-0500
TZOFFSETTO:-0400
TZNAME:EDT
DTSTART:20230312T070000
END:DAYLIGHT
BEGIN:STANDARD
TZOFFSETFROM:-0400
TZOFFSETTO:-0500
TZNAME:EST
DTSTART:20231105T060000
END:STANDARD
BEGIN:DAYLIGHT
TZOFFSETFROM:-0500
TZOFFSETTO:-0400
TZNAME:EDT
DTSTART:20240310T070000
END:DAYLIGHT
BEGIN:STANDARD
TZOFFSETFROM:-0400
TZOFFSETTO:-0500
TZNAME:EST
DTSTART:20241103T060000
END:STANDARD
BEGIN:DAYLIGHT
TZOFFSETFROM:-0500
TZOFFSETTO:-0400
TZNAME:EDT
DTSTART:20250309T070000
END:DAYLIGHT
BEGIN:STANDARD
TZOFFSETFROM:-0400
TZOFFSETTO:-0500
TZNAME:EST
DTSTART:20251102T060000
END:STANDARD
END:VTIMEZONE
BEGIN:VEVENT
DTSTART;TZID=America/New_York:20240308T180000
DTEND;TZID=America/New_York:20240309T120000
DTSTAMP:20260421T140240
CREATED:20240131T175929Z
LAST-MODIFIED:20240306T133952Z
UID:4096-1709920800-1709985600@integritync.org
SUMMARY:Integrity Church Women's Conference
DESCRIPTION:Friday March 8: 6pm-9pm\nSaturday March 9: 9am-12noon\n$25 per person (includes dinner and breakfast)\nPlease register by March 05.\nKeynote Speaker: Doris Cardwell of Spearfish\, South Dakota\nBreakout speakers: Angie Newsom\nTheme: This is My Story\nEveryone has a story. Join us as we hear how God can turn adverse life circumstances into joy!
URL:https://integritync.org/event/integrity-church-womens-conference/
LOCATION:Integrity Church\, 2420 CORPORATION PKWY\, BURL\, NC\, 27215\, United States
ATTACH;FMTTYPE=image/jpeg:https://integritync.org/wp-content/uploads/2024/01/2024_Cnoference_Graphic-1920.jpg
END:VEVENT
BEGIN:VEVENT
DTSTART;TZID=America/New_York:20240302T180000
DTEND;TZID=America/New_York:20240302T203000
DTSTAMP:20260421T140240
CREATED:20240116T173345Z
LAST-MODIFIED:20240227T160659Z
UID:4027-1709402400-1709411400@integritync.org
SUMMARY:Father Daughter Mother Son Dance and Dinner
DESCRIPTION:
URL:https://integritync.org/event/father-daughter-mother-son-dance-and-dinner/
LOCATION:Integrity Church – Student Bay\, 2420 Corporation Parkway\, Burlington\, NC\, 27215\, United States
ATTACH;FMTTYPE=image/jpeg:https://integritync.org/wp-content/uploads/2024/01/mother_son_dance-2024.jpg
ORGANIZER;CN="Maryjo Pollard":MAILTO:mpollard@integritync.org
END:VEVENT
END:VCALENDAR