BEGIN:VCALENDAR
VERSION:2.0
PRODID:-//Integrity Church Burlington, NC | Real People, Real Church - ECPv6.15.20//NONSGML v1.0//EN
CALSCALE:GREGORIAN
METHOD:PUBLISH
X-WR-CALNAME:Integrity Church Burlington, NC | Real People, Real Church
X-ORIGINAL-URL:https://integritync.org
X-WR-CALDESC:Events for Integrity Church Burlington, NC | Real People, Real Church
REFRESH-INTERVAL;VALUE=DURATION:PT1H
X-Robots-Tag:noindex
X-PUBLISHED-TTL:PT1H
BEGIN:VTIMEZONE
TZID:America/New_York
BEGIN:DAYLIGHT
TZOFFSETFROM:-0500
TZOFFSETTO:-0400
TZNAME:EDT
DTSTART:20250309T070000
END:DAYLIGHT
BEGIN:STANDARD
TZOFFSETFROM:-0400
TZOFFSETTO:-0500
TZNAME:EST
DTSTART:20251102T060000
END:STANDARD
BEGIN:DAYLIGHT
TZOFFSETFROM:-0500
TZOFFSETTO:-0400
TZNAME:EDT
DTSTART:20260308T070000
END:DAYLIGHT
BEGIN:STANDARD
TZOFFSETFROM:-0400
TZOFFSETTO:-0500
TZNAME:EST
DTSTART:20261101T060000
END:STANDARD
BEGIN:DAYLIGHT
TZOFFSETFROM:-0500
TZOFFSETTO:-0400
TZNAME:EDT
DTSTART:20270314T070000
END:DAYLIGHT
BEGIN:STANDARD
TZOFFSETFROM:-0400
TZOFFSETTO:-0500
TZNAME:EST
DTSTART:20271107T060000
END:STANDARD
END:VTIMEZONE
BEGIN:VEVENT
DTSTART;TZID=America/New_York:20260302T173000
DTEND;TZID=America/New_York:20260302T173000
DTSTAMP:20260423T044849
CREATED:20260325T135416Z
LAST-MODIFIED:20260407T174952Z
UID:6455-1772472600-1772472600@integritync.org
SUMMARY:Step 4
DESCRIPTION:
URL:https://integritync.org/event/step-4/
LOCATION:Integrity Church\, 2420 CORPORATION PKWY\, BURL\, NC\, 27215\, United States
CATEGORIES:FALSE
END:VEVENT
BEGIN:VEVENT
DTSTART;TZID=America/New_York:20260307T000000
DTEND;TZID=America/New_York:20260307T000000
DTSTAMP:20260423T044849
CREATED:20260323T165605Z
LAST-MODIFIED:20260407T174953Z
UID:6367-1772841600-1772841600@integritync.org
SUMMARY:Basketball Tournament
DESCRIPTION:
URL:https://integritync.org/event/basketball-tournament-2/
LOCATION:Integrity Church\, 2420 CORPORATION PKWY\, BURL\, NC\, 27215\, United States
CATEGORIES:FALSE
END:VEVENT
BEGIN:VEVENT
DTSTART;TZID=America/New_York:20260309T000000
DTEND;TZID=America/New_York:20260309T000000
DTSTAMP:20260423T044849
CREATED:20260323T165605Z
LAST-MODIFIED:20260407T174953Z
UID:6368-1773014400-1773014400@integritync.org
SUMMARY:Ladies Paint Night
DESCRIPTION:
URL:https://integritync.org/event/ladies-paint-night-2/
LOCATION:Integrity Church\, 2420 CORPORATION PKWY\, BURL\, NC\, 27215\, United States
CATEGORIES:FALSE
END:VEVENT
BEGIN:VEVENT
DTSTART;TZID=America/New_York:20260314T000000
DTEND;TZID=America/New_York:20260314T000000
DTSTAMP:20260423T044849
CREATED:20260323T165605Z
LAST-MODIFIED:20260407T174953Z
UID:6369-1773446400-1773446400@integritync.org
SUMMARY:YA Skate Night
DESCRIPTION:
URL:https://integritync.org/event/ya-skate-night-2/
LOCATION:Integrity Church\, 2420 CORPORATION PKWY\, BURL\, NC\, 27215\, United States
CATEGORIES:FALSE
END:VEVENT
BEGIN:VEVENT
DTSTART;TZID=America/New_York:20260320T000000
DTEND;TZID=America/New_York:20260320T000000
DTSTAMP:20260423T044849
CREATED:20260323T165605Z
LAST-MODIFIED:20260407T174953Z
UID:6370-1773964800-1773964800@integritync.org
SUMMARY:Faith & Fun Friday
DESCRIPTION:
URL:https://integritync.org/event/faith-fun-friday-2/
LOCATION:Integrity Church\, 2420 CORPORATION PKWY\, BURL\, NC\, 27215\, United States
CATEGORIES:FALSE
END:VEVENT
BEGIN:VEVENT
DTSTART;TZID=America/New_York:20260327T000000
DTEND;TZID=America/New_York:20260327T000000
DTSTAMP:20260423T044849
CREATED:20260323T144827Z
LAST-MODIFIED:20260325T165243Z
UID:6332-1774569600-1774569600@integritync.org
SUMMARY:MH Music Night (Katherine Strand)
DESCRIPTION:
URL:https://integritync.org/event/mh-music-night-katherine/
LOCATION:Integrity Church\, 2420 CORPORATION PKWY\, BURL\, NC\, 27215\, United States
CATEGORIES:Music
END:VEVENT
BEGIN:VEVENT
DTSTART;TZID=America/New_York:20260329T000000
DTEND;TZID=America/New_York:20260329T000000
DTSTAMP:20260423T044849
CREATED:20260323T144828Z
LAST-MODIFIED:20260407T174956Z
UID:6333-1774742400-1774742400@integritync.org
SUMMARY:Palm Sunday
DESCRIPTION:
URL:https://integritync.org/event/palm-sunday/
LOCATION:Integrity Church\, 2420 CORPORATION PKWY\, BURL\, NC\, 27215\, United States
CATEGORIES:Holiday
END:VEVENT
BEGIN:VEVENT
DTSTART;TZID=America/New_York:20260329T000000
DTEND;TZID=America/New_York:20260329T000000
DTSTAMP:20260423T044849
CREATED:20260323T144828Z
LAST-MODIFIED:20260407T174956Z
UID:6334-1774742400-1774742400@integritync.org
SUMMARY:Baptism
DESCRIPTION:
URL:https://integritync.org/event/baptism/
LOCATION:Integrity Church\, 2420 CORPORATION PKWY\, BURL\, NC\, 27215\, United States
END:VEVENT
BEGIN:VEVENT
DTSTART;TZID=America/New_York:20260329T160000
DTEND;TZID=America/New_York:20260329T160000
DTSTAMP:20260423T044849
CREATED:20260325T135420Z
LAST-MODIFIED:20260407T174956Z
UID:6457-1774800000-1774800000@integritync.org
SUMMARY:Easter Egg Hunt
DESCRIPTION:
URL:https://integritync.org/event/easter-egg-hunt/
LOCATION:Integrity Church\, 2420 CORPORATION PKWY\, BURL\, NC\, 27215\, United States
CATEGORIES:FALSE
END:VEVENT
BEGIN:VEVENT
DTSTART;TZID=America/New_York:20260405T000000
DTEND;TZID=America/New_York:20260405T000000
DTSTAMP:20260423T044849
CREATED:20260323T165608Z
LAST-MODIFIED:20260407T174956Z
UID:6372-1775347200-1775347200@integritync.org
SUMMARY:Easter Sunday
DESCRIPTION:
URL:https://integritync.org/event/easter-sunday-2/
LOCATION:Integrity Church\, 2420 CORPORATION PKWY\, BURL\, NC\, 27215\, United States
CATEGORIES:TRUE
END:VEVENT
BEGIN:VEVENT
DTSTART;TZID=America/New_York:20260412T000000
DTEND;TZID=America/New_York:20260412T170000
DTSTAMP:20260423T044849
CREATED:20260323T090042Z
LAST-MODIFIED:20260407T181858Z
UID:6337-1775952000-1776013200@integritync.org
SUMMARY:Ordination Celebration
DESCRIPTION:
URL:https://integritync.org/event/ordination-celebration/
LOCATION:Integrity Church\, 2420 CORPORATION PKWY\, BURL\, NC\, 27215\, United States
END:VEVENT
BEGIN:VEVENT
DTSTART;TZID=America/New_York:20260418T000000
DTEND;TZID=America/New_York:20260418T110000
DTSTAMP:20260423T044849
CREATED:20260323T150022Z
LAST-MODIFIED:20260407T181931Z
UID:6373-1776470400-1776510000@integritync.org
SUMMARY:Unite 2026
DESCRIPTION:
URL:https://integritync.org/event/unite-2026-2/
LOCATION:Integrity Church\, 2420 CORPORATION PKWY\, BURL\, NC\, 27215\, United States
CATEGORIES:FALSE
END:VEVENT
BEGIN:VEVENT
DTSTART;TZID=America/New_York:20260501T130000
DTEND;TZID=America/New_York:20260501T130000
DTSTAMP:20260423T044849
CREATED:20260325T135619Z
LAST-MODIFIED:20260407T175011Z
UID:6461-1777640400-1777640400@integritync.org
SUMMARY:Golf Tournament
DESCRIPTION:
URL:https://integritync.org/event/golf-tournament/
LOCATION:Integrity Church\, 2420 CORPORATION PKWY\, BURL\, NC\, 27215\, United States
CATEGORIES:FALSE
END:VEVENT
BEGIN:VEVENT
DTSTART;TZID=America/New_York:20260502T000000
DTEND;TZID=America/New_York:20260502T000000
DTSTAMP:20260423T044849
CREATED:20260323T165823Z
LAST-MODIFIED:20260407T175025Z
UID:6376-1777680000-1777680000@integritync.org
SUMMARY:YA Dinner
DESCRIPTION:
URL:https://integritync.org/event/ya-dinner-2/
LOCATION:Integrity Church\, 2420 CORPORATION PKWY\, BURL\, NC\, 27215\, United States
CATEGORIES:FALSE
END:VEVENT
BEGIN:VEVENT
DTSTART;TZID=America/New_York:20260510T000000
DTEND;TZID=America/New_York:20260510T000000
DTSTAMP:20260423T044849
CREATED:20260323T165824Z
LAST-MODIFIED:20260407T175025Z
UID:6377-1778371200-1778371200@integritync.org
SUMMARY:Mother’s Day
DESCRIPTION:
URL:https://integritync.org/event/mothers-day-2/
LOCATION:Integrity Church\, 2420 CORPORATION PKWY\, BURL\, NC\, 27215\, United States
CATEGORIES:TRUE
END:VEVENT
BEGIN:VEVENT
DTSTART;TZID=America/New_York:20260517T160000
DTEND;TZID=America/New_York:20260517T190000
DTSTAMP:20260423T044849
CREATED:20260323T165824Z
LAST-MODIFIED:20260407T182127Z
UID:6378-1779033600-1779044400@integritync.org
SUMMARY:Family Fun Day
DESCRIPTION:
URL:https://integritync.org/event/family-fun-day-2/
LOCATION:Integrity Church\, 2420 CORPORATION PKWY\, BURL\, NC\, 27215\, United States
CATEGORIES:FALSE
END:VEVENT
BEGIN:VEVENT
DTSTART;TZID=America/New_York:20260606T000000
DTEND;TZID=America/New_York:20260606T000000
DTSTAMP:20260423T044849
CREATED:20260325T125431Z
LAST-MODIFIED:20260407T175040Z
UID:6411-1780704000-1780704000@integritync.org
SUMMARY:YA Dinner
DESCRIPTION:
URL:https://integritync.org/event/ya-dinner-3/
LOCATION:Integrity Church\, 2420 CORPORATION PKWY\, BURL\, NC\, 27215\, United States
CATEGORIES:Church Event
END:VEVENT
BEGIN:VEVENT
DTSTART;TZID=America/New_York:20260606T090000
DTEND;TZID=America/New_York:20260606T090000
DTSTAMP:20260423T044849
CREATED:20260325T135823Z
LAST-MODIFIED:20260407T175025Z
UID:6463-1780736400-1780736400@integritync.org
SUMMARY:Men’s Breakfast
DESCRIPTION:
URL:https://integritync.org/event/mens-breakfast/
LOCATION:Integrity Church\, 2420 CORPORATION PKWY\, BURL\, NC\, 27215\, United States
CATEGORIES:FALSE
END:VEVENT
BEGIN:VEVENT
DTSTART;TZID=America/New_York:20260607T000000
DTEND;TZID=America/New_York:20260607T000000
DTSTAMP:20260423T044849
CREATED:20260323T144912Z
LAST-MODIFIED:20260407T175040Z
UID:6347-1780790400-1780790400@integritync.org
SUMMARY:Grad Sunday
DESCRIPTION:
URL:https://integritync.org/event/grad-sunday/
LOCATION:Integrity Church\, 2420 CORPORATION PKWY\, BURL\, NC\, 27215\, United States
END:VEVENT
BEGIN:VEVENT
DTSTART;TZID=America/New_York:20260615T000000
DTEND;TZID=America/New_York:20260620T000000
DTSTAMP:20260423T044849
CREATED:20260325T125432Z
LAST-MODIFIED:20260407T175040Z
UID:6413-1781481600-1781913600@integritync.org
SUMMARY:Youth Camp
DESCRIPTION:
URL:https://integritync.org/event/youth-camp-2/
LOCATION:Integrity Church\, 2420 CORPORATION PKWY\, BURL\, NC\, 27215\, United States
CATEGORIES:FALSE
END:VEVENT
BEGIN:VEVENT
DTSTART;TZID=America/New_York:20260621T000000
DTEND;TZID=America/New_York:20260621T000000
DTSTAMP:20260423T044849
CREATED:20260323T170024Z
LAST-MODIFIED:20260407T175041Z
UID:6380-1782000000-1782000000@integritync.org
SUMMARY:Father’s Day
DESCRIPTION:
URL:https://integritync.org/event/fathers-day-2/
LOCATION:Integrity Church\, 2420 CORPORATION PKWY\, BURL\, NC\, 27215\, United States
CATEGORIES:TRUE
END:VEVENT
BEGIN:VEVENT
DTSTART;TZID=America/New_York:20260627T000000
DTEND;TZID=America/New_York:20260627T000000
DTSTAMP:20260423T044849
CREATED:20260323T170024Z
LAST-MODIFIED:20260407T175041Z
UID:6381-1782518400-1782518400@integritync.org
SUMMARY:YA Bowling Night
DESCRIPTION:
URL:https://integritync.org/event/ya-bowling-night-2/
LOCATION:Integrity Church\, 2420 CORPORATION PKWY\, BURL\, NC\, 27215\, United States
CATEGORIES:FALSE
END:VEVENT
BEGIN:VEVENT
DTSTART;TZID=America/New_York:20260719T000000
DTEND;TZID=America/New_York:20260723T000000
DTSTAMP:20260423T044849
CREATED:20260325T125632Z
LAST-MODIFIED:20260407T175055Z
UID:6416-1784419200-1784764800@integritync.org
SUMMARY:Vacation Bible School
DESCRIPTION:
URL:https://integritync.org/event/vacation-bible-school-2/
LOCATION:Integrity Church\, 2420 CORPORATION PKWY\, BURL\, NC\, 27215\, United States
CATEGORIES:FALSE
END:VEVENT
BEGIN:VEVENT
DTSTART;TZID=America/New_York:20260901T000000
DTEND;TZID=America/New_York:20260901T000000
DTSTAMP:20260423T044849
CREATED:20260323T144928Z
LAST-MODIFIED:20260323T144928Z
UID:6352-1788220800-1788220800@integritync.org
SUMMARY:Educator Sunday
DESCRIPTION:
URL:https://integritync.org/event/educator-sunday/
LOCATION:NC
END:VEVENT
BEGIN:VEVENT
DTSTART;TZID=America/New_York:20260901T000000
DTEND;TZID=America/New_York:20260901T000000
DTSTAMP:20260423T044849
CREATED:20260323T170226Z
LAST-MODIFIED:20260323T170226Z
UID:6382-1788220800-1788220800@integritync.org
SUMMARY:Church Cookout
DESCRIPTION:FALSE
URL:https://integritync.org/event/church-cookout-2/
LOCATION:Integrity Church\, 2420 CORPORATION PKWY\, BURL\, NC\, 27215\, United States
END:VEVENT
BEGIN:VEVENT
DTSTART;TZID=America/New_York:20260912T090000
DTEND;TZID=America/New_York:20260912T090000
DTSTAMP:20260423T044849
CREATED:20260325T140222Z
LAST-MODIFIED:20260407T175055Z
UID:6467-1789203600-1789203600@integritync.org
SUMMARY:Men’s Breakfast
DESCRIPTION:
URL:https://integritync.org/event/mens-breakfast-2/
LOCATION:Integrity Church\, 2420 CORPORATION PKWY\, BURL\, NC\, 27215\, United States
CATEGORIES:FALSE
END:VEVENT
BEGIN:VEVENT
DTSTART;TZID=America/New_York:20260918T000000
DTEND;TZID=America/New_York:20260919T000000
DTSTAMP:20260423T044849
CREATED:20260325T125633Z
LAST-MODIFIED:20260407T175055Z
UID:6418-1789689600-1789776000@integritync.org
SUMMARY:Women’s Conference
DESCRIPTION:
URL:https://integritync.org/event/womens-conference-2/
LOCATION:Integrity Church\, 2420 CORPORATION PKWY\, BURL\, NC\, 27215\, United States
CATEGORIES:FALSE
END:VEVENT
BEGIN:VEVENT
DTSTART;TZID=America/New_York:20261001T000000
DTEND;TZID=America/New_York:20261001T000000
DTSTAMP:20260423T044849
CREATED:20260323T170428Z
LAST-MODIFIED:20260407T175110Z
UID:6385-1790812800-1790812800@integritync.org
SUMMARY:Marriage Conference
DESCRIPTION:
URL:https://integritync.org/event/marriage-conference-2/
LOCATION:Integrity Church\, 2420 CORPORATION PKWY\, BURL\, NC\, 27215\, United States
CATEGORIES:FALSE
END:VEVENT
BEGIN:VEVENT
DTSTART;TZID=America/New_York:20261003T090000
DTEND;TZID=America/New_York:20261003T090000
DTSTAMP:20260423T044849
CREATED:20260325T140422Z
LAST-MODIFIED:20260407T175110Z
UID:6469-1791018000-1791018000@integritync.org
SUMMARY:Men’s Breakfast
DESCRIPTION:
URL:https://integritync.org/event/mens-breakfast-3/
LOCATION:Integrity Church\, 2420 CORPORATION PKWY\, BURL\, NC\, 27215\, United States
CATEGORIES:FALSE
END:VEVENT
BEGIN:VEVENT
DTSTART;TZID=America/New_York:20261101T000000
DTEND;TZID=America/New_York:20261101T000000
DTSTAMP:20260423T044849
CREATED:20260323T144943Z
LAST-MODIFIED:20260323T144943Z
UID:6360-1793491200-1793491200@integritync.org
SUMMARY:Friendsgiving
DESCRIPTION:
URL:https://integritync.org/event/friendsgiving/
LOCATION:NC
CATEGORIES:Community
END:VEVENT
END:VCALENDAR